BEGIN:VCALENDAR
VERSION:2.0
PRODID:-//NMRA MCR Division 04 Events - ECPv6.15.17//NONSGML v1.0//EN
CALSCALE:GREGORIAN
METHOD:PUBLISH
X-WR-CALNAME:NMRA MCR Division 04 Events
X-ORIGINAL-URL:https://div04events.org
X-WR-CALDESC:Events for NMRA MCR Division 04 Events
REFRESH-INTERVAL;VALUE=DURATION:PT1H
X-Robots-Tag:noindex
X-PUBLISHED-TTL:PT1H
BEGIN:VTIMEZONE
TZID:UTC
BEGIN:STANDARD
TZOFFSETFROM:+0000
TZOFFSETTO:+0000
TZNAME:UTC
DTSTART:20240101T000000
END:STANDARD
END:VTIMEZONE
BEGIN:VEVENT
DTSTART;VALUE=DATE:20250714
DTEND;VALUE=DATE:20250720
DTSTAMP:20260421T085344
CREATED:20240902T015936Z
LAST-MODIFIED:20240902T015936Z
UID:1528-1752451200-1752969599@div04events.org
SUMMARY:NMRA National Convention
DESCRIPTION:The annual NMRA National Convention (and Train Show).  See website for details including costs.
URL:https://div04events.org/event/nmra-national-convention/
LOCATION:Shearton Hotel\, 21111 Haggerty Rd\, Novi\, MI\, 48375\, United States
CATEGORIES:Convention
END:VEVENT
BEGIN:VEVENT
DTSTART;VALUE=DATE:20250515
DTEND;VALUE=DATE:20250519
DTSTAMP:20260421T085344
CREATED:20240902T015241Z
LAST-MODIFIED:20240902T015241Z
UID:1524-1747267200-1747612799@div04events.org
SUMMARY:MCR Convention
DESCRIPTION:The Mid Central Region’s annual convention.  Clinics\, tours\, contests\, and general fun.  See website for specific activities and registration costs.  The hotel is the same as the last Columbus Regional Convention.
URL:https://div04events.org/event/mcr-convention/
LOCATION:Emassy Suites\, 5100 Upper Metro Plaza\, Dublin\, OH\, 43017\, United States
CATEGORIES:Convention
END:VEVENT
END:VCALENDAR