BEGIN:VCALENDAR
VERSION:2.0
PRODID:-//NMRA MCR Division 04 Events - ECPv6.15.17//NONSGML v1.0//EN
CALSCALE:GREGORIAN
METHOD:PUBLISH
X-ORIGINAL-URL:https://div04events.org
X-WR-CALDESC:Events for NMRA MCR Division 04 Events
REFRESH-INTERVAL;VALUE=DURATION:PT1H
X-Robots-Tag:noindex
X-PUBLISHED-TTL:PT1H
BEGIN:VTIMEZONE
TZID:UTC
BEGIN:STANDARD
TZOFFSETFROM:+0000
TZOFFSETTO:+0000
TZNAME:UTC
DTSTART:20230101T000000
END:STANDARD
END:VTIMEZONE
BEGIN:VEVENT
DTSTART;VALUE=DATE:20240804
DTEND;VALUE=DATE:20240812
DTSTAMP:20260421T150659
CREATED:20231017T024515Z
LAST-MODIFIED:20231019T023606Z
UID:1397-1722729600-1723420799@div04events.org
SUMMARY:NMRA National Convention: Surfliner 2024
DESCRIPTION:This year’s convention will be in Long Beach California.  Check the event’s website for details.
URL:https://div04events.org/event/nmra-national-convention-surfliner-2024/
LOCATION:The Westin Long Beach\, 333 EAST OCEAN BLVD\, Long Beach\, CA\, United States
CATEGORIES:NMRA Members Events
END:VEVENT
BEGIN:VEVENT
DTSTART;VALUE=DATE:20240516
DTEND;VALUE=DATE:20240520
DTSTAMP:20260421T150659
CREATED:20231017T023220Z
LAST-MODIFIED:20231019T023541Z
UID:1393-1715817600-1716163199@div04events.org
SUMMARY:North Coast Limited 2024 MCR Convention
DESCRIPTION:The Mid Central Region’s annual convention.  Go to the convention website for information on tours\, clinics\, pricing and hotel discount.
URL:https://div04events.org/event/north-coast-limited-2024-mcr-convention/
LOCATION:Crowne Plaza Hotel\, 7230 Engle Rd\, Middleburg Hts\, Ohio\, 44130\, United States
CATEGORIES:NMRA Members Events
END:VEVENT
END:VCALENDAR