BEGIN:VCALENDAR
VERSION:2.0
PRODID:-//NMRA MCR Division 04 Events - ECPv6.15.17//NONSGML v1.0//EN
CALSCALE:GREGORIAN
METHOD:PUBLISH
X-ORIGINAL-URL:https://div04events.org
X-WR-CALDESC:Events for NMRA MCR Division 04 Events
REFRESH-INTERVAL;VALUE=DURATION:PT1H
X-Robots-Tag:noindex
X-PUBLISHED-TTL:PT1H
BEGIN:VTIMEZONE
TZID:UTC
BEGIN:STANDARD
TZOFFSETFROM:+0000
TZOFFSETTO:+0000
TZNAME:UTC
DTSTART:20230101T000000
END:STANDARD
END:VTIMEZONE
BEGIN:VEVENT
DTSTART;TZID=UTC:20250315T100000
DTEND;TZID=UTC:20250315T160000
DTSTAMP:20260421T194107
CREATED:20240325T014659Z
LAST-MODIFIED:20240325T014659Z
UID:1492-1742032800-1742054400@div04events.org
SUMMARY:Railfest
DESCRIPTION:Open to the public. \nAnnual train show sponsored by MCR Division 5.  Saturday and Sunday. \nVariable pricing – see event website.
URL:https://div04events.org/event/railfest-3/
LOCATION:Lakeland Community College\, 7700 Clocktower Blvd\, Kirtland\, Ohio
CATEGORIES:Train Shows and Open Houses
END:VEVENT
BEGIN:VEVENT
DTSTART;TZID=UTC:20250315T100000
DTEND;TZID=UTC:20250315T160000
DTSTAMP:20260421T194107
CREATED:20240325T014659Z
LAST-MODIFIED:20240325T014659Z
UID:1492-1742032800-1742054400@div04events.org
SUMMARY:Railfest
DESCRIPTION:Open to the public. \nAnnual train show sponsored by MCR Division 5.  Saturday and Sunday. \nVariable pricing – see event website.
URL:https://div04events.org/event/railfest-3/
LOCATION:Lakeland Community College\, 7700 Clocktower Blvd\, Kirtland\, Ohio
CATEGORIES:Train Shows and Open Houses
END:VEVENT
BEGIN:VEVENT
DTSTART;TZID=UTC:20241003T100000
DTEND;TZID=UTC:20241006T160000
DTSTAMP:20260421T194107
CREATED:20240830T014544Z
LAST-MODIFIED:20240830T014544Z
UID:1512-1727949600-1728230400@div04events.org
SUMMARY:Great Berea Train Show
DESCRIPTION:Member workdays for set up are Thursday October 3 and Friday October 4.  Not open to the public on these days. \nOpen to the public on Saturday and Sunday October 5/6 10am to 4pm.  $10 one day\, $15 two day.  Under 16 free with a paying adult. \nMembers are needed for volunteer positions throughout the weekend.  Please signup at the September meeting. \nParking is free for this event.  Please be aware that other events may charge for parking – do not use their parking intend to attend their event as well.
URL:https://div04events.org/event/great-berea-train-show/
LOCATION:Cuyahoga County Fairgrounds\, 19201 E Bagley Rd\, Middleburg Hts\, OH\, 44130\, United States
CATEGORIES:Train Shows and Open Houses,Work Days
END:VEVENT
BEGIN:VEVENT
DTSTART;TZID=UTC:20240427T090000
DTEND;TZID=UTC:20240427T160000
DTSTAMP:20260421T194107
CREATED:20240325T012657Z
LAST-MODIFIED:20240325T012657Z
UID:1481-1714208400-1714233600@div04events.org
SUMMARY:Buckeye Model Trains & Railroad Artifacts Show
DESCRIPTION:Ohio’s largest combination show.  Prices not listed.
URL:https://div04events.org/event/buckeye-model-trains-railroad-artifacts-show/
LOCATION:Ohio Expo Center\, 717 E 17th Ave\, Columbus\, OH\, 43211\, United States
CATEGORIES:Train Shows and Open Houses
END:VEVENT
END:VCALENDAR